BEGIN:VCALENDAR
VERSION:2.0
PRODID:-//AFM Tabernacle of Prayer - ECPv6.15.14//NONSGML v1.0//EN
CALSCALE:GREGORIAN
METHOD:PUBLISH
X-WR-CALNAME:AFM Tabernacle of Prayer
X-ORIGINAL-URL:https://www.afmtop.co.za
X-WR-CALDESC:Events for AFM Tabernacle of Prayer
REFRESH-INTERVAL;VALUE=DURATION:PT1H
X-Robots-Tag:noindex
X-PUBLISHED-TTL:PT1H
BEGIN:VTIMEZONE
TZID:Africa/Johannesburg
BEGIN:STANDARD
TZOFFSETFROM:+0200
TZOFFSETTO:+0200
TZNAME:SAST
DTSTART:20240101T000000
END:STANDARD
END:VTIMEZONE
BEGIN:VEVENT
DTSTART;VALUE=DATE:20251031
DTEND;VALUE=DATE:20251103
DTSTAMP:20260419T182839
CREATED:20250212T151851Z
LAST-MODIFIED:20250729T130604Z
UID:194-1761868800-1762127999@www.afmtop.co.za
SUMMARY:Firestorm 10 (Year End Conference)
DESCRIPTION:
URL:https://www.afmtop.co.za/event/firestorm-10-year-end-conference/
LOCATION:AFM Tabernacle of Prayer\, 170 New Market Street\, Woodstock\, Cape Town\, Western Cape\, 7919\, South Africa
END:VEVENT
BEGIN:VEVENT
DTSTART;VALUE=DATE:20250829
DTEND;VALUE=DATE:20250901
DTSTAMP:20260419T182839
CREATED:20250212T151803Z
LAST-MODIFIED:20250212T151803Z
UID:192-1756425600-1756684799@www.afmtop.co.za
SUMMARY:Ladies Conference
DESCRIPTION:
URL:https://www.afmtop.co.za/event/ladies-conference/
LOCATION:AFM Tabernacle of Prayer\, 170 New Market Street\, Woodstock\, Cape Town\, Western Cape\, 7919\, South Africa
ORGANIZER;CN="Evangelist J Gwenyaya":MAILTO:jesline000@gmail.com
END:VEVENT
BEGIN:VEVENT
DTSTART;VALUE=DATE:20250725
DTEND;VALUE=DATE:20250728
DTSTAMP:20260419T182839
CREATED:20250212T151648Z
LAST-MODIFIED:20250212T151648Z
UID:190-1753401600-1753660799@www.afmtop.co.za
SUMMARY:Chabvondoka (Men's Prayer Camp)
DESCRIPTION:
URL:https://www.afmtop.co.za/event/chabvondoka-mens-prayer-camp/
LOCATION:AFM Tabernacle of Prayer\, 170 New Market Street\, Woodstock\, Cape Town\, Western Cape\, 7919\, South Africa
END:VEVENT
BEGIN:VEVENT
DTSTART;VALUE=DATE:20250706
DTEND;VALUE=DATE:20250707
DTSTAMP:20260419T182839
CREATED:20250212T151546Z
LAST-MODIFIED:20250729T130552Z
UID:188-1751760000-1751846399@www.afmtop.co.za
SUMMARY:Firestorm 10 Launch
DESCRIPTION:
URL:https://www.afmtop.co.za/event/firestorm-10-launch/
LOCATION:AFM Tabernacle of Prayer\, 170 New Market Street\, Woodstock\, Cape Town\, Western Cape\, 7919\, South Africa
ORGANIZER;CN="Evangelist J Gwenyaya":MAILTO:jesline000@gmail.com
END:VEVENT
BEGIN:VEVENT
DTSTART;VALUE=DATE:20250626
DTEND;VALUE=DATE:20250627
DTSTAMP:20260419T182839
CREATED:20250212T151505Z
LAST-MODIFIED:20250212T151505Z
UID:186-1750896000-1750982399@www.afmtop.co.za
SUMMARY:Pastor's Birthday
DESCRIPTION:
URL:https://www.afmtop.co.za/event/pastors-birthday/
LOCATION:Western Cape
ORGANIZER;CN="Evangelist J Gwenyaya":MAILTO:jesline000@gmail.com
END:VEVENT
BEGIN:VEVENT
DTSTART;VALUE=DATE:20250613
DTEND;VALUE=DATE:20250616
DTSTAMP:20260419T182839
CREATED:20250212T151331Z
LAST-MODIFIED:20250212T151331Z
UID:182-1749772800-1750031999@www.afmtop.co.za
SUMMARY:YPU Revival
DESCRIPTION:
URL:https://www.afmtop.co.za/event/ypu-revival/
LOCATION:AFM Tabernacle of Prayer\, 170 New Market Street\, Woodstock\, Cape Town\, Western Cape\, 7919\, South Africa
ORGANIZER;CN="Youth Commitee":MAILTO:satumbat@gmail.com
END:VEVENT
BEGIN:VEVENT
DTSTART;VALUE=DATE:20250601
DTEND;VALUE=DATE:20250602
DTSTAMP:20260419T182839
CREATED:20250212T151227Z
LAST-MODIFIED:20250212T151227Z
UID:180-1748736000-1748822399@www.afmtop.co.za
SUMMARY:Child Dedication Sunday
DESCRIPTION:
URL:https://www.afmtop.co.za/event/child-dedication-sunday/
LOCATION:AFM Tabernacle of Prayer\, 170 New Market Street\, Woodstock\, Cape Town\, Western Cape\, 7919\, South Africa
ORGANIZER;CN="Evangelist J Gwenyaya":MAILTO:jesline000@gmail.com
END:VEVENT
BEGIN:VEVENT
DTSTART;TZID=Africa/Johannesburg:20250531T170000
DTEND;TZID=Africa/Johannesburg:20250531T233000
DTSTAMP:20260419T182839
CREATED:20250212T151146Z
LAST-MODIFIED:20250212T151146Z
UID:178-1748710800-1748734200@www.afmtop.co.za
SUMMARY:Men's Gala Dinner(Inter-D)
DESCRIPTION:
URL:https://www.afmtop.co.za/event/mens-gala-dinnerinter-d/
LOCATION:AFM Tabernacle of Prayer\, 170 New Market Street\, Woodstock\, Cape Town\, Western Cape\, 7919\, South Africa
ORGANIZER;CN="Evangelist J Gwenyaya":MAILTO:jesline000@gmail.com
END:VEVENT
BEGIN:VEVENT
DTSTART;VALUE=DATE:20250530
DTEND;VALUE=DATE:20250531
DTSTAMP:20260419T182839
CREATED:20250212T151059Z
LAST-MODIFIED:20250212T151059Z
UID:176-1748563200-1748649599@www.afmtop.co.za
SUMMARY:Ladies Prayer Camp
DESCRIPTION:
URL:https://www.afmtop.co.za/event/ladies-prayer-camp/
LOCATION:AFM Tabernacle of Prayer\, 170 New Market Street\, Woodstock\, Cape Town\, Western Cape\, 7919\, South Africa
ORGANIZER;CN="Evangelist J Gwenyaya":MAILTO:jesline000@gmail.com
END:VEVENT
BEGIN:VEVENT
DTSTART;VALUE=DATE:20250525
DTEND;VALUE=DATE:20250526
DTSTAMP:20260419T182839
CREATED:20250212T150923Z
LAST-MODIFIED:20250212T150958Z
UID:173-1748131200-1748217599@www.afmtop.co.za
SUMMARY:Holy Communion Sunday
DESCRIPTION:
URL:https://www.afmtop.co.za/event/holy-communion-sunday-3/
LOCATION:AFM Tabernacle of Prayer\, 170 New Market Street\, Woodstock\, Cape Town\, Western Cape\, 7919\, South Africa
ORGANIZER;CN="Evangelist J Gwenyaya":MAILTO:jesline000@gmail.com
END:VEVENT
BEGIN:VEVENT
DTSTART;TZID=Africa/Johannesburg:20250524T190000
DTEND;TZID=Africa/Johannesburg:20250524T233000
DTSTAMP:20260419T182839
CREATED:20250212T150826Z
LAST-MODIFIED:20250212T150826Z
UID:171-1748113200-1748129400@www.afmtop.co.za
SUMMARY:Sunday School Half-Night Prayer
DESCRIPTION:
URL:https://www.afmtop.co.za/event/sunday-school-half-night-prayer/
LOCATION:AFM Tabernacle of Prayer\, 170 New Market Street\, Woodstock\, Cape Town\, Western Cape\, 7919\, South Africa
ORGANIZER;CN="Evangelist J Gwenyaya":MAILTO:jesline000@gmail.com
END:VEVENT
BEGIN:VEVENT
DTSTART;VALUE=DATE:20250509
DTEND;VALUE=DATE:20250510
DTSTAMP:20260419T182839
CREATED:20250212T150725Z
LAST-MODIFIED:20250212T150725Z
UID:169-1746748800-1746835199@www.afmtop.co.za
SUMMARY:Men's Fellowship Prayer (Kugomo)
DESCRIPTION:
URL:https://www.afmtop.co.za/event/mens-fellowship-prayer-kugomo/
LOCATION:AFM Tabernacle of Prayer\, 170 New Market Street\, Woodstock\, Cape Town\, Western Cape\, 7919\, South Africa
ORGANIZER;CN="Evangelist J Gwenyaya":MAILTO:jesline000@gmail.com
END:VEVENT
BEGIN:VEVENT
DTSTART;VALUE=DATE:20250504
DTEND;VALUE=DATE:20250505
DTSTAMP:20260419T182839
CREATED:20250212T150616Z
LAST-MODIFIED:20250212T150616Z
UID:167-1746316800-1746403199@www.afmtop.co.za
SUMMARY:Deco Fund Raising Day
DESCRIPTION:
URL:https://www.afmtop.co.za/event/deco-fund-raising-day/
LOCATION:AFM Tabernacle of Prayer\, 170 New Market Street\, Woodstock\, Cape Town\, Western Cape\, 7919\, South Africa
ORGANIZER;CN="Evangelist J Gwenyaya":MAILTO:jesline000@gmail.com
END:VEVENT
BEGIN:VEVENT
DTSTART;VALUE=DATE:20250427
DTEND;VALUE=DATE:20250428
DTSTAMP:20260419T182839
CREATED:20250212T150504Z
LAST-MODIFIED:20250212T150504Z
UID:165-1745712000-1745798399@www.afmtop.co.za
SUMMARY:Holy Communion Sunday
DESCRIPTION:
URL:https://www.afmtop.co.za/event/holy-communion-sunday-2/
LOCATION:AFM Tabernacle of Prayer\, 170 New Market Street\, Woodstock\, Cape Town\, Western Cape\, 7919\, South Africa
ORGANIZER;CN="Evangelist J Gwenyaya":MAILTO:jesline000@gmail.com
END:VEVENT
BEGIN:VEVENT
DTSTART;VALUE=DATE:20250407
DTEND;VALUE=DATE:20250414
DTSTAMP:20260419T182839
CREATED:20250212T150402Z
LAST-MODIFIED:20250408T131042Z
UID:163-1743984000-1744588799@www.afmtop.co.za
SUMMARY:WEEK OF ANSWERS (Prayer & Fasting)
DESCRIPTION:
URL:https://www.afmtop.co.za/event/prayer-fasting/
LOCATION:AFM Tabernacle of Prayer\, 170 New Market Street\, Woodstock\, Cape Town\, Western Cape\, 7919\, South Africa
ORGANIZER;CN="Evangelist J Gwenyaya":MAILTO:jesline000@gmail.com
END:VEVENT
BEGIN:VEVENT
DTSTART;TZID=Africa/Johannesburg:20250405T183000
DTEND;TZID=Africa/Johannesburg:20250405T213000
DTSTAMP:20260419T182839
CREATED:20250212T150254Z
LAST-MODIFIED:20250212T150254Z
UID:161-1743877800-1743888600@www.afmtop.co.za
SUMMARY:Father & Son (Business Seminar)
DESCRIPTION:
URL:https://www.afmtop.co.za/event/father-son-business-seminar/
LOCATION:AFM Tabernacle of Prayer\, 170 New Market Street\, Woodstock\, Cape Town\, Western Cape\, 7919\, South Africa
ORGANIZER;CN="Evangelist J Gwenyaya":MAILTO:jesline000@gmail.com
END:VEVENT
BEGIN:VEVENT
DTSTART;TZID=Africa/Johannesburg:20250328T080000
DTEND;TZID=Africa/Johannesburg:20250330T170000
DTSTAMP:20260419T182839
CREATED:20250212T150005Z
LAST-MODIFIED:20250212T150005Z
UID:157-1743148800-1743354000@www.afmtop.co.za
SUMMARY:YPU Camp
DESCRIPTION:
URL:https://www.afmtop.co.za/event/ypu-camp/
LOCATION:AFM Tabernacle of Prayer\, 170 New Market Street\, Woodstock\, Cape Town\, Western Cape\, 7919\, South Africa
ORGANIZER;CN="Youth Commitee":MAILTO:satumbat@gmail.com
END:VEVENT
BEGIN:VEVENT
DTSTART;VALUE=DATE:20250328
DTEND;VALUE=DATE:20250331
DTSTAMP:20260419T182839
CREATED:20250212T150135Z
LAST-MODIFIED:20250212T150135Z
UID:159-1743120000-1743379199@www.afmtop.co.za
SUMMARY:WISMO Conference
DESCRIPTION:
URL:https://www.afmtop.co.za/event/wismo-conference/
LOCATION:AFM Tabernacle of Prayer\, 170 New Market Street\, Woodstock\, Cape Town\, Western Cape\, 7919\, South Africa
ORGANIZER;CN="Evangelist J Gwenyaya":MAILTO:jesline000@gmail.com
END:VEVENT
BEGIN:VEVENT
DTSTART;TZID=Africa/Johannesburg:20250321T170000
DTEND;TZID=Africa/Johannesburg:20250321T180000
DTSTAMP:20260419T182839
CREATED:20250212T145839Z
LAST-MODIFIED:20250212T145839Z
UID:154-1742576400-1742580000@www.afmtop.co.za
SUMMARY:Prayer with Pastor (YPU)
DESCRIPTION:
URL:https://www.afmtop.co.za/event/prayer-with-pastor-ypu/
LOCATION:AFM Tabernacle of Prayer\, 170 New Market Street\, Woodstock\, Cape Town\, Western Cape\, 7919\, South Africa
ORGANIZER;CN="Evangelist J Gwenyaya":MAILTO:jesline000@gmail.com
END:VEVENT
BEGIN:VEVENT
DTSTART;TZID=Africa/Johannesburg:20250301T183000
DTEND;TZID=Africa/Johannesburg:20250301T233000
DTSTAMP:20260419T182839
CREATED:20250212T133712Z
LAST-MODIFIED:20250212T152501Z
UID:118-1740853800-1740871800@www.afmtop.co.za
SUMMARY:Exquisite International Interdenominational Youth Dinner
DESCRIPTION:
URL:https://www.afmtop.co.za/event/exquisite-international-youth-dinner/
LOCATION:AFM Tabernacle of Prayer\, 170 New Market Street\, Woodstock\, Cape Town\, Western Cape\, 7919\, South Africa
ORGANIZER;CN="Youth Commitee":MAILTO:satumbat@gmail.com
END:VEVENT
BEGIN:VEVENT
DTSTART;VALUE=DATE:20250223
DTEND;VALUE=DATE:20250224
DTSTAMP:20260419T182839
CREATED:20250212T145512Z
LAST-MODIFIED:20250212T145512Z
UID:151-1740268800-1740355199@www.afmtop.co.za
SUMMARY:Holy Communion Sunday
DESCRIPTION:
URL:https://www.afmtop.co.za/event/holy-communion-sunday/
LOCATION:AFM Tabernacle of Prayer\, 170 New Market Street\, Woodstock\, Cape Town\, Western Cape\, 7919\, South Africa
END:VEVENT
BEGIN:VEVENT
DTSTART;TZID=Africa/Johannesburg:20250220T190000
DTEND;TZID=Africa/Johannesburg:20250220T203000
DTSTAMP:20260419T182839
CREATED:20250212T151413Z
LAST-MODIFIED:20250212T151413Z
UID:184-1740078000-1740083400@www.afmtop.co.za
SUMMARY:Leadership Seminar
DESCRIPTION:
URL:https://www.afmtop.co.za/event/leadership-seminar/
LOCATION:AFM Tabernacle of Prayer\, 170 New Market Street\, Woodstock\, Cape Town\, Western Cape\, 7919\, South Africa
ORGANIZER;CN="Evangelist J Gwenyaya":MAILTO:jesline000@gmail.com
END:VEVENT
BEGIN:VEVENT
DTSTART;VALUE=DATE:20250215
DTEND;VALUE=DATE:20250216
DTSTAMP:20260419T182839
CREATED:20250212T145302Z
LAST-MODIFIED:20250212T145302Z
UID:149-1739577600-1739663999@www.afmtop.co.za
SUMMARY:Men's & Ladies Couples Outing
DESCRIPTION:
URL:https://www.afmtop.co.za/event/mens-ladies-couples-outing/
LOCATION:AFM Tabernacle of Prayer\, 170 New Market Street\, Woodstock\, Cape Town\, Western Cape\, 7919\, South Africa
END:VEVENT
END:VCALENDAR